BEGIN:VCALENDAR
VERSION:2.0
CALSCALE:GREGORIAN
PRODID:-//Diputació de Barcelona//DibaCMS//EN
BEGIN:VEVENT
UID:1847
DTSTAMP:20260419T200315
DTSTART:20170428T210000
DTEND:20170428T223000
SUMMARY:HIPSTORY, de la Cia. Brodas Bros
LOCATION:Carrer de l'Església,1 08512 Sant Hipòlit de Voltregà
METHOD:PUBLISH
X-WR-CALNAME:st.hipolit@santhipolitdevoltrega.cat
X-WR-TIMEZONE:Europe/Madrid
DESCRIPTION:Programació Teatre de Sant Hipòlit de Voltregà 2016-2017
URI:https://www.santhipolitdevoltrega.cat/actualitat/agenda/hipstory-de-la-cia-brodas-bros.html
CLASS:PUBLIC
END:VEVENT
END:VCALENDAR
