BEGIN:VCALENDAR
VERSION:2.0
CALSCALE:GREGORIAN
PRODID:-//Diputació de Barcelona//DibaCMS//EN
BEGIN:VEVENT
UID:1636
DTSTAMP:20260420T130355
DTSTART:20160704T213000
DTEND:20160704T230000
SUMMARY:RACONS DE CINEMA - CINEMA A L'AIRE LLIURE EN ESPAIS NO RECURRENTS - POSPOSAT
LOCATION:SEGUIU LA PISTA I HO TROBAREU 
METHOD:PUBLISH
X-WR-CALNAME:st.hipolit@santhipolitdevoltrega.cat
X-WR-TIMEZONE:Europe/Madrid
DESCRIPTION:POSPOSAT
URI:https://www.santhipolitdevoltrega.cat/actualitat/agenda/racons-de-cinema-cinema-a-laire-lliure-en-espais-no-recurrents.html
CLASS:PUBLIC
END:VEVENT
END:VCALENDAR
