BEGIN:VCALENDAR
VERSION:2.0
CALSCALE:GREGORIAN
PRODID:-//Diputació de Barcelona//DibaCMS//EN
BEGIN:VEVENT
UID:1635
DTSTAMP:20260420T131850
DTSTART:20160701T080000
DTEND:20160726T080000
SUMMARY:CONCURS DE FOTOGRAFIA ARTOT 10 ANYS EL FESTIVAL EN UNA IMATGE!
LOCATION:
METHOD:PUBLISH
X-WR-CALNAME:st.hipolit@santhipolitdevoltrega.cat
X-WR-TIMEZONE:Europe/Madrid
DESCRIPTION:ARTOT 2016
URI:https://www.santhipolitdevoltrega.cat/actualitat/agenda/concurs-de-fotografia-artot-10-anys-el-festival-en-una-imatge.html
CLASS:PUBLIC
END:VEVENT
END:VCALENDAR
