BEGIN:VCALENDAR
VERSION:2.0
CALSCALE:GREGORIAN
PRODID:-//Diputació de Barcelona//DibaCMS//EN
BEGIN:VEVENT
UID:1632
DTSTAMP:20260420T152124
DTSTART:20160702T213000
DTEND:20160702T230000
SUMMARY:ESCENARI COOL - ARTISTES DEL VOLTREGANÈS
LOCATION:ALS JARDINS DE LA PISTA 
METHOD:PUBLISH
X-WR-CALNAME:st.hipolit@santhipolitdevoltrega.cat
X-WR-TIMEZONE:Europe/Madrid
DESCRIPTION:ARTOT 2016
URI:https://www.santhipolitdevoltrega.cat/actualitat/agenda/escenari-cool-artistes-del-voltreganes.html
CLASS:PUBLIC
END:VEVENT
END:VCALENDAR
