BEGIN:VCALENDAR
VERSION:2.0
CALSCALE:GREGORIAN
PRODID:-//Diputació de Barcelona//DibaCMS//EN
BEGIN:VEVENT
UID:1405
DTSTAMP:20260422T120736
DTSTART:20160611T200000
DTEND:20160611T220000
SUMMARY:TERTÚLIA amb el director DAVID CONILL al voltant dels curtmetratges
LOCATION:Carrer de la Vinya , 2 08512 Sant Hipòlit de Voltregà
METHOD:PUBLISH
X-WR-CALNAME:st.hipolit@santhipolitdevoltrega.cat
X-WR-TIMEZONE:Europe/Madrid
DESCRIPTION:
URI:https://www.santhipolitdevoltrega.cat/actualitat/agenda/tertulia-amb-el-director-david-conill-al-voltant-dels-curtmetratges.html
CLASS:PUBLIC
END:VEVENT
END:VCALENDAR
