BEGIN:VCALENDAR
VERSION:2.0
CALSCALE:GREGORIAN
PRODID:-//Diputació de Barcelona//DibaCMS//EN
BEGIN:VEVENT
UID:12796
DTSTAMP:20260419T175639
DTSTART:20260307T190000
DTEND:20260307T210000
SUMMARY:Taller de Clown amb Pepa Plana - L'Ateneu de les Arts
LOCATION:Carrer Bisbe Morgades, 1 08512 Sant Hipòlit de Voltregà
METHOD:PUBLISH
X-WR-CALNAME:st.hipolit@santhipolitdevoltrega.cat
X-WR-TIMEZONE:Europe/Madrid
DESCRIPTION:Per a adults i joves

URI:https://www.santhipolitdevoltrega.cat/actualitat/agenda/taller-de-clown-amb-pepa-plana-lateneu-de-les-arts.html
CLASS:PUBLIC
END:VEVENT
END:VCALENDAR
