BEGIN:VCALENDAR
VERSION:2.0
CALSCALE:GREGORIAN
PRODID:-//Diputació de Barcelona//DibaCMS//EN
BEGIN:VEVENT
UID:12734
DTSTAMP:20260426T021052
DTSTART:20260201T180000
DTEND:20260201T190000
SUMMARY:Fe de Rutes amb Toti Toronell
LOCATION:Carrer de l'Església,1 08512 Sant Hipòlit de Voltregà
METHOD:PUBLISH
X-WR-CALNAME:st.hipolit@santhipolitdevoltrega.cat
X-WR-TIMEZONE:Europe/Madrid
DESCRIPTION:Fe de Rutes (en homenatge al poeta Joan Brossa) és l’equivocació sobre l’equivocació. El joc del pallasso, l’error insistent i l’obsessió a equivocar-se millor.

URI:https://www.santhipolitdevoltrega.cat/actualitat/agenda/fe-de-rutes-amb-toti-toronell.html
CLASS:PUBLIC
END:VEVENT
END:VCALENDAR
