BEGIN:VCALENDAR
VERSION:2.0
CALSCALE:GREGORIAN
PRODID:-//Diputació de Barcelona//DibaCMS//EN
BEGIN:VEVENT
UID:12732
DTSTAMP:20260426T020755
DTSTART:20260130T170000
DTEND:20260130T180000
SUMMARY:Edats invisibles
LOCATION:Carrer de l'Església,1 08512 Sant Hipòlit de Voltregà
METHOD:PUBLISH
X-WR-CALNAME:st.hipolit@santhipolitdevoltrega.cat
X-WR-TIMEZONE:Europe/Madrid
DESCRIPTION:Un monòleg sobre l'edatisme per Helena Pla

Entrada lliure

URI:https://www.santhipolitdevoltrega.cat/actualitat/agenda/edats-invisibles.html
CLASS:PUBLIC
END:VEVENT
END:VCALENDAR
