BEGIN:VCALENDAR
VERSION:2.0
CALSCALE:GREGORIAN
PRODID:-//Diputació de Barcelona//DibaCMS//EN
BEGIN:VEVENT
UID:12542
DTSTAMP:20260419T142658
DTSTART:20250715T210000
DTEND:20250715T220000
SUMMARY:LA CORCOLES H | Festival Artot
LOCATION:Rambla Catalunya 
METHOD:PUBLISH
X-WR-CALNAME:st.hipolit@santhipolitdevoltrega.cat
X-WR-TIMEZONE:Europe/Madrid
DESCRIPTION:
URI:https://www.santhipolitdevoltrega.cat/actualitat/agenda/la-corcoles-h--festival-artot.html
CLASS:PUBLIC
END:VEVENT
END:VCALENDAR
