BEGIN:VCALENDAR
VERSION:2.0
CALSCALE:GREGORIAN
PRODID:-//Diputació de Barcelona//DibaCMS//EN
BEGIN:VEVENT
UID:12502
DTSTAMP:20260419T161946
DTSTART:20250623T203000
DTEND:20250623T235500
SUMMARY:Revetlla de Sant Joan
LOCATION:
METHOD:PUBLISH
X-WR-CALNAME:st.hipolit@santhipolitdevoltrega.cat
X-WR-TIMEZONE:Europe/Madrid
DESCRIPTION:REVETLLA DE SANT JOAN 23 DE JUNY 2025 SANT HIPÒLIT DE VOLTREGÀ

URI:https://www.santhipolitdevoltrega.cat/actualitat/agenda/12502-revetlla-de-sant-joan.html
CLASS:PUBLIC
END:VEVENT
END:VCALENDAR
