BEGIN:VCALENDAR
VERSION:2.0
CALSCALE:GREGORIAN
PRODID:-//Diputació de Barcelona//DibaCMS//EN
BEGIN:VEVENT
UID:12479
DTSTAMP:20260419T155130
DTSTART:20250701T093000
DTEND:20250701T133000
SUMMARY:Deixalleria Mòbil - Dimarts
LOCATION:
METHOD:PUBLISH
X-WR-CALNAME:st.hipolit@santhipolitdevoltrega.cat
X-WR-TIMEZONE:Europe/Madrid
DESCRIPTION:
URI:https://www.santhipolitdevoltrega.cat/actualitat/agenda/12479-deixalleria-mobil-dimarts.html
CLASS:PUBLIC
END:VEVENT
END:VCALENDAR
