BEGIN:VCALENDAR
VERSION:2.0
CALSCALE:GREGORIAN
PRODID:-//Diputació de Barcelona//DibaCMS//EN
BEGIN:VEVENT
UID:12444
DTSTAMP:20260419T172725
DTSTART:20250514T183000
DTEND:20250514T203000
SUMMARY:Taller de com seure respectant el sol pelvià
LOCATION:08512 Sant Hipòlit de Voltregà
METHOD:PUBLISH
X-WR-CALNAME:st.hipolit@santhipolitdevoltrega.cat
X-WR-TIMEZONE:Europe/Madrid
DESCRIPTION:a càrrec de Mireia Grossman

Per aquest taller cal portar un coixí petit (per la zona lumbar).

URI:https://www.santhipolitdevoltrega.cat/actualitat/agenda/taller-de-com-seure-respectant-el-sol-pelvia.html
CLASS:PUBLIC
END:VEVENT
END:VCALENDAR
