BEGIN:VCALENDAR
VERSION:2.0
CALSCALE:GREGORIAN
PRODID:-//Diputació de Barcelona//DibaCMS//EN
BEGIN:VEVENT
UID:12369
DTSTAMP:20260419T203957
DTSTART:20250311T103000
DTEND:20250311T103000
SUMMARY:Acte de colenda Matinals d'Art
LOCATION:
METHOD:PUBLISH
X-WR-CALNAME:st.hipolit@santhipolitdevoltrega.cat
X-WR-TIMEZONE:Europe/Madrid
DESCRIPTION:
URI:https://www.santhipolitdevoltrega.cat/actualitat/agenda/acte-de-colenda-matinals-dart.html
CLASS:PUBLIC
END:VEVENT
END:VCALENDAR
