BEGIN:VCALENDAR
VERSION:2.0
CALSCALE:GREGORIAN
PRODID:-//Diputació de Barcelona//DibaCMS//EN
BEGIN:VEVENT
UID:11757
DTSTAMP:20260422T120232
DTSTART:20231221T103000
DTEND:20231221T120000
SUMMARY:Reunió d'Urbanisme amb referència al Teatre Municipal
LOCATION:Vic 
METHOD:PUBLISH
X-WR-CALNAME:st.hipolit@santhipolitdevoltrega.cat
X-WR-TIMEZONE:Europe/Madrid
DESCRIPTION:
URI:https://www.santhipolitdevoltrega.cat/1-ajuntament/govern/agenda-politica/reunio-durbanisme-amb-referencia-al-teatre-municipal.html
CLASS:PUBLIC
END:VEVENT
END:VCALENDAR
